BEGIN:VCALENDAR
VERSION:1.0
PRODID:-//Centric Events Calendar//careers.centric.eu//
BEGIN:VEVENT
SUMMARY:Centric Burgerzaken Regio-overleg Friesland\, Groningen en Drenthe
DTSTART;VALUE=DATE:20260528
DTEND;VALUE=DATE:20260528
UID:13503.event.events.eu.centric.careers
DESCRIPTION:Op 28 mei vindt het regio-overleg Friesland\, Groningen en Dre
 nthe in samenwerking met de Gebruikersvereniging Centric Burgerzaken plaat
 s. We praten je graag bij over waar we staan met onze oplossingen en onze 
 toekomstplannen. Er is volop gelegenheid om vragen te stellen en kennis ui
 t te wisselen met collega’s van andere gebruikers van Centric Burger
 zaken in de regio. Het overleg is operationeel en het is mogelijk om met
  meerdere personen van één gemeente aan te sluiten.
LOCATION:Gemeente Stadskanaal\, Raadhuisplein 1\, Stadskanaal
END:VEVENT
END:VCALENDAR
