BEGIN:VCALENDAR
VERSION:1.0
PRODID:-//Centric Events Calendar//careers.centric.eu//
BEGIN:VEVENT
SUMMARY:Centric Burgerzaken Regio-overleg Gelderland/Overijssel
DTSTART;VALUE=DATE:20260519
DTEND;VALUE=DATE:20260519
UID:13506.event.events.eu.centric.careers
DESCRIPTION:Op 19 mei vindt het regio-overleg Gelderland/Overijssel in sam
 enwerking met de Gebruikersvereniging Centric Burgerzaken plaats. We prate
 n je graag bij over waar we staan met onze oplossingen en onze toekomstpla
 nnen. Er is volop gelegenheid om vragen te stellen en kennis uit te wissel
 en met collega’s van andere gebruikers van Centric Burgerzaken in 
 de regio. Het overleg is operationeel en het is mogelijk om met meerdere p
 ersonen van één gemeente aan te sluiten.
LOCATION:Gemeente Nijkerk\, Van 't\, Van Het Hoffstraat 24\, Nijkerk
END:VEVENT
END:VCALENDAR
