BEGIN:VCALENDAR
VERSION:1.0
PRODID:-//Centric Events Calendar//careers.centric.eu//
BEGIN:VEVENT
SUMMARY:Centric Burgerzaken Regio-overleg Noord-Brabant/Limburg
DTSTART;VALUE=DATE:20260603
DTEND;VALUE=DATE:20260603
UID:13502.event.events.eu.centric.careers
DESCRIPTION:Op 3 juni vindt het regio-overleg Noord-Brabant/Limburg in sam
 enwerking met de Gebruikersvereniging Centric Burgerzaken plaats. We prate
 n je graag bij over waar we staan met onze oplossingen en onze toekomstpla
 nnen. Er is volop gelegenheid om vragen te stellen en kennis uit te wissel
 en met collega’s van andere gebruikers van Centric Burgerzaken in de reg
 io. Het overleg is operationeel en het is mogelijk om met meerdere persone
 n van één gemeente aan te sluiten.
LOCATION:Gemeente Altena\, Sportlaan 170\, Almkerk
END:VEVENT
END:VCALENDAR
