BEGIN:VCALENDAR
VERSION:1.0
PRODID:-//Centric Events Calendar//careers.centric.eu//
BEGIN:VEVENT
SUMMARY:Centric Burgerzaken Regio-overleg Noord-Holland/Flevoland
DTSTART;VALUE=DATE:20260527
DTEND;VALUE=DATE:20260527
UID:13505.event.events.eu.centric.careers
DESCRIPTION:Op 27 mei vindt het regio-overleg Noord-Holland/Flevoland in s
 amenwerking met de Gebruikersvereniging Centric Burgerzaken plaats. We pra
 ten je graag bij over waar we staan met onze oplossingen en onze toekomstp
 lannen. Er is volop gelegenheid om vragen te stellen en kennis uit te wiss
 elen met collega’s van andere gebruikers van Centric Burgerzaken i
 n de regio. Het overleg is operationeel en het is mogelijk om met meerdere
  personen van één gemeente aan te sluiten.
LOCATION:Gemeente Dronten\, De Rede 1\, Dronten
END:VEVENT
END:VCALENDAR
