BEGIN:VCALENDAR
VERSION:1.0
PRODID:-//Centric Events Calendar//careers.centric.eu//
BEGIN:VEVENT
SUMMARY:Centric Burgerzaken Regio-overleg Zeeland/Zuid-Holland/Utrecht
DTSTART;VALUE=DATE:20260520
DTEND;VALUE=DATE:20260520
UID:13507.event.events.eu.centric.careers
DESCRIPTION:Op 20 mei vindt het regio-overleg Utrecht\, Zuid-Holland en Ze
 eland in samenwerking met de Gebruikersvereniging Centric Burgerzaken plaa
 ts. We praten je graag bij over waar we staan met onze oplossingen en onze
  toekomstplannen. Er is volop gelegenheid om vragen te stellen en kennis u
 it te wisselen met collega’s van andere gebruikers van Centric Burgerzak
 en in de regio. Het overleg is operationeel en het is mogelijk om met meer
 dere personen van één gemeente aan te sluiten.
LOCATION:Gemeente Utrecht\, Stadhuisplein 1\, Utrecht
END:VEVENT
END:VCALENDAR
