BEGIN:VCALENDAR
VERSION:1.0
PRODID:-//Centric Events Calendar//careers.centric.eu//
BEGIN:VEVENT
SUMMARY:Centric Tech Talk: Datagedreven presteren in topsport
DTSTART:20260521T180000
DTEND:20260521T200000
UID:13638.event.events.eu.centric.careers
DESCRIPTION:Op 21 mei staat de volgende Centric Tech Talk op de planning\,
  met niemand minder dan Daan Le Luc als spreker.
LOCATION:
END:VEVENT
END:VCALENDAR
