BEGIN:VCALENDAR
VERSION:1.0
PRODID:-//Centric Events Calendar//careers.centric.eu//
BEGIN:VEVENT
SUMMARY:Regiosessie 'Samen op weg naar de digitale overheid van morgen' in
  Apeldoorn
DTSTART:20260702T103000
DTEND:20260702T170000
UID:13561.event.events.eu.centric.careers
DESCRIPTION:Ook dit jaar trekt Centric het land in met inspirerende regios
 essies vol nieuwe inzichten\, ontmoetingen en energie. We nodigen je van h
 arte uit om erbij te zijn!
LOCATION:Theater Orpheus\, Churchillplein 1\, Apeldoorn
END:VEVENT
END:VCALENDAR
