BEGIN:VCALENDAR
VERSION:1.0
PRODID:-//Centric Events Calendar//careers.centric.eu//
BEGIN:VEVENT
SUMMARY:Regiosessie 'Samen op weg naar de digitale overheid van morgen' in
  Oisterwijk
DTSTART:20260423T103000
DTEND:20260423T170000
UID:13559.event.events.eu.centric.careers
DESCRIPTION:Ook dit jaar trekt Centric het land in met inspirerende regios
 essies vol nieuwe inzichten\, ontmoetingen en energie. We nodigen je van h
 arte uit om erbij te zijn!
LOCATION:Hotel De Leijhof\, Heusdensebaan 7\, 5061 PM Oisterwijk
END:VEVENT
END:VCALENDAR
